BEGIN:VCALENDAR
PRODID:PlannerXE123
VERSION:2.0
CALSCALE:GREGORIAN
METHOD:PUBLISH
BEGIN:VEVENT
DTSTART:20171212T000000Z
DTEND:20171212T100000Z
DTSTAMP:20260420T121438Z
UID:(hd.cathms.kr_22985)
CREATED:20260420T121438Z
DESCRIPTION:사목협의회 월례회의\n\n<a href="http://hd.cathms.kr/xe/board7/22985?iCal=ics_event&document_srl=22985">원본일정</a>
LOCATION:
SEQUENCE:1
STATUS:CONFIRMED
SUMMARY:사목회의
TRANSP:TRANSPARENT
END:VEVENT
END:VCALENDAR
