BEGIN:VCALENDAR
PRODID:PlannerXE123
VERSION:2.0
CALSCALE:GREGORIAN
METHOD:PUBLISH
BEGIN:VEVENT
DTSTART:20171203
DTEND:20171204
DTSTAMP:20260420T125933Z
UID:(hd.cathms.kr_22987)
CREATED:20260420T125933Z
DESCRIPTION:포항 지진 피해민을 돕기위한 2차헌금\n\n<a href="http://hd.cathms.kr/xe/board7/22987?iCal=ics_event&document_srl=22987">원본일정</a>
LOCATION:
SEQUENCE:1
STATUS:CONFIRMED
SUMMARY:포항지진2차헌금
TRANSP:TRANSPARENT
END:VEVENT
END:VCALENDAR
