BEGIN:VCALENDAR
PRODID:PlannerXE123
VERSION:2.0
CALSCALE:GREGORIAN
METHOD:PUBLISH
BEGIN:VEVENT
DTSTART:20180123T210000Z
DTEND:20180121T030000Z
DTSTAMP:20260420T032931Z
UID:(hd.cathms.kr_22988)
CREATED:20260420T032931Z
DESCRIPTION:창원 가음정 본당 박영진(베드로)신부 초청특강\n\n<a href="http://hd.cathms.kr/xe/board7/22988?iCal=ics_event&document_srl=22988">원본일정</a>
LOCATION:
SEQUENCE:1
STATUS:CONFIRMED
SUMMARY:대림절 특강
TRANSP:TRANSPARENT
END:VEVENT
END:VCALENDAR
