BEGIN:VCALENDAR
PRODID:PlannerXE123
VERSION:2.0
CALSCALE:GREGORIAN
METHOD:PUBLISH
BEGIN:VEVENT
DTSTART:20171214T193000Z
DTEND:20171214T203000Z
DTSTAMP:20260420T110646Z
UID:(hd.cathms.kr_22989)
CREATED:20260420T110646Z
DESCRIPTION:성탄 합동판공성사 오후7:30부터~\n\n<a href="http://hd.cathms.kr/xe/board7/22989?iCal=ics_event&document_srl=22989">원본일정</a>
LOCATION:
SEQUENCE:1
STATUS:CONFIRMED
SUMMARY:성탄합동판공성사
TRANSP:TRANSPARENT
END:VEVENT
END:VCALENDAR
