BEGIN:VCALENDAR
PRODID:PlannerXE123
VERSION:2.0
CALSCALE:GREGORIAN
METHOD:PUBLISH
BEGIN:VEVENT
DTSTART:20171217T113000Z
DTEND:20171217T123000Z
DTSTAMP:20260420T035644Z
UID:(hd.cathms.kr_22990)
CREATED:20260420T035644Z
DESCRIPTION:레지오마리애 평의회 월례모임\n\n<a href="http://hd.cathms.kr/xe/board7/22990?iCal=ics_event&document_srl=22990">원본일정</a>
LOCATION:
SEQUENCE:1
STATUS:CONFIRMED
SUMMARY:꾸리아
TRANSP:TRANSPARENT
END:VEVENT
END:VCALENDAR
