BEGIN:VCALENDAR
PRODID:PlannerXE123
VERSION:2.0
CALSCALE:GREGORIAN
METHOD:PUBLISH
BEGIN:VEVENT
DTSTART:20180815
DTEND:20180816
DTSTAMP:20260420T065236Z
UID:(hd.cathms.kr_23901)
CREATED:20260420T065236Z
DESCRIPTION:10:30\n\n<a href="http://hd.cathms.kr/xe/board7/23901?iCal=ics_event&document_srl=23901">원본일정</a>
LOCATION:
SEQUENCE:1
STATUS:CONFIRMED
SUMMARY:성모승천대축일
TRANSP:TRANSPARENT
END:VEVENT
END:VCALENDAR
