BEGIN:VCALENDAR
PRODID:PlannerXE123
VERSION:2.0
CALSCALE:GREGORIAN
METHOD:PUBLISH
BEGIN:VEVENT
DTSTART:20180828
DTEND:20180829
DTSTAMP:20260424T005600Z
UID:(hd.cathms.kr_23932)
CREATED:20260424T005600Z
DESCRIPTION:축하드립니다!\n\n<a href="http://hd.cathms.kr/xe/board7/23932?document_srl=23932&document_srl=23932">원본일정</a>
LOCATION:
SEQUENCE:1
STATUS:CONFIRMED
SUMMARY:주임신부님 영명축일
TRANSP:TRANSPARENT
END:VEVENT
END:VCALENDAR
