BEGIN:VCALENDAR
PRODID:PlannerXE123
VERSION:2.0
CALSCALE:GREGORIAN
METHOD:PUBLISH
BEGIN:VEVENT
DTSTART:20241111T090000Z
DTEND:20241112T120000Z
DTSTAMP:20260420T123542Z
UID:(hd.cathms.kr_23938)
CREATED:20260420T123542Z
DESCRIPTION:병자영성체\n\n<a href="http://hd.cathms.kr/xe/board7/23938?iCal=ics_event&document_srl=23938">원본일정</a>
LOCATION:
SEQUENCE:1
STATUS:CONFIRMED
SUMMARY:병자영성체
TRANSP:TRANSPARENT
END:VEVENT
END:VCALENDAR
