BEGIN:VCALENDAR
PRODID:PlannerXE123
VERSION:2.0
CALSCALE:GREGORIAN
METHOD:PUBLISH
BEGIN:VEVENT
DTSTART:20181007
DTEND:20181008
DTSTAMP:20260422T070234Z
UID:(hd.cathms.kr_24089)
CREATED:20260422T070234Z
DESCRIPTION:10:30 하동초등학교 실내체육관\n\n<a href="http://hd.cathms.kr/xe/board7/24089?iCal=ics_event&document_srl=24089">원본일정</a>
LOCATION:
SEQUENCE:1
STATUS:CONFIRMED
SUMMARY:본당의 날
TRANSP:TRANSPARENT
END:VEVENT
END:VCALENDAR
