BEGIN:VCALENDAR
PRODID:PlannerXE123
VERSION:2.0
CALSCALE:GREGORIAN
METHOD:PUBLISH
BEGIN:VEVENT
DTSTART:20181118
DTEND:20181119
DTSTAMP:20260426T005750Z
UID:(hd.cathms.kr_24352)
CREATED:20260426T005750Z
DESCRIPTION:주일 미사 후, 연도경창대회\n\n<a href="http://hd.cathms.kr/xe/board7/24352?document_srl=24352&document_srl=24352">원본일정</a>
LOCATION:
SEQUENCE:1
STATUS:CONFIRMED
SUMMARY:레지오 마리애 연차총친목회
TRANSP:TRANSPARENT
END:VEVENT
END:VCALENDAR
