BEGIN:VCALENDAR
PRODID:PlannerXE123
VERSION:2.0
CALSCALE:GREGORIAN
METHOD:PUBLISH
BEGIN:VEVENT
DTSTART:20190317
DTEND:20190318
DTSTAMP:20260422T071629Z
UID:(hd.cathms.kr_24744)
CREATED:20260422T071629Z
DESCRIPTION:10:30, 주일미사, 배기현 콘스탄틴 주교님 집전\n\n<a href="http://hd.cathms.kr/xe/board7/24744?iCal=ics_event&document_srl=24744">원본일정</a>
LOCATION:
SEQUENCE:1
STATUS:CONFIRMED
SUMMARY:견진성사
TRANSP:TRANSPARENT
END:VEVENT
END:VCALENDAR
