BEGIN:VCALENDAR
PRODID:PlannerXE123
VERSION:2.0
CALSCALE:GREGORIAN
METHOD:PUBLISH
BEGIN:VEVENT
DTSTART:20190414
DTEND:20190415
DTSTAMP:20260423T080858Z
UID:(hd.cathms.kr_24943)
CREATED:20260423T080858Z
DESCRIPTION:주님 수난 성지주일 #사랑의단식 헌금 #꾸리아(미사후) #조안나(안나)관면혼(13:00) #성당대청소(14:00)\n\n<a href="http://hd.cathms.kr/xe/board7/24943?iCal=ics_event&document_srl=24943">원본일정</a>
LOCATION:
SEQUENCE:1
STATUS:CONFIRMED
SUMMARY:주님 수난 성지주일
TRANSP:TRANSPARENT
END:VEVENT
END:VCALENDAR
