BEGIN:VCALENDAR
PRODID:PlannerXE123
VERSION:2.0
CALSCALE:GREGORIAN
METHOD:PUBLISH
BEGIN:VEVENT
DTSTART:20190409
DTEND:20190413
DTSTAMP:20260423T073855Z
UID:(hd.cathms.kr_24947)
CREATED:20260423T073855Z
DESCRIPTION:오전미사(10:00)\n\n<a href="http://hd.cathms.kr/xe/board7/24947?iCal=ics_event&document_srl=24947">원본일정</a>
LOCATION:
SEQUENCE:1
STATUS:CONFIRMED
SUMMARY:오전미사
TRANSP:TRANSPARENT
END:VEVENT
END:VCALENDAR
