BEGIN:VCALENDAR
PRODID:PlannerXE123
VERSION:2.0
CALSCALE:GREGORIAN
METHOD:PUBLISH
BEGIN:VEVENT
DTSTART:20190811
DTEND:20190814
DTSTAMP:20260426T095243Z
UID:(hd.cathms.kr_25517)
CREATED:20260426T095243Z
DESCRIPTION:제주도에 다녀올 예정입니다. 벌써부터 아이들의 기대가 크답니다.\n\n<a href="http://hd.cathms.kr/xe/board7/25517?iCal=ics_event&document_srl=25517">원본일정</a>
LOCATION:
SEQUENCE:1
STATUS:CONFIRMED
SUMMARY:주일학교 여름 신앙학교
TRANSP:TRANSPARENT
END:VEVENT
END:VCALENDAR
