BEGIN:VCALENDAR
PRODID:PlannerXE123
VERSION:2.0
CALSCALE:GREGORIAN
METHOD:PUBLISH
BEGIN:VEVENT
DTSTART:20190607
DTEND:20190609
DTSTAMP:20260422T203935Z
UID:(hd.cathms.kr_25518)
CREATED:20260422T203935Z
DESCRIPTION:전남 목포 일원\n\n<a href="http://hd.cathms.kr/xe/board7/25518?iCal=ics_event&document_srl=25518">원본일정</a>
LOCATION:
SEQUENCE:1
STATUS:CONFIRMED
SUMMARY:사목위원회 하계 연수
TRANSP:TRANSPARENT
END:VEVENT
END:VCALENDAR
