BEGIN:VCALENDAR
PRODID:PlannerXE123
VERSION:2.0
CALSCALE:GREGORIAN
METHOD:PUBLISH
BEGIN:VEVENT
DTSTART:20210516
DTEND:20210517
DTSTAMP:20260425T220338Z
UID:(hd.cathms.kr_28007)
CREATED:20260425T220338Z
DESCRIPTION:...\n\n<a href="http://hd.cathms.kr/xe/board7/28007?document_srl=28007&document_srl=28007">원본일정</a>
LOCATION:
SEQUENCE:1
STATUS:CONFIRMED
SUMMARY:주님 승천 대축일
TRANSP:TRANSPARENT
END:VEVENT
END:VCALENDAR
